Package: DCATS Version: 1.7.0 Command: /home/biocbuild/R/R/bin/R CMD check --install=check:DCATS.install-out.txt --library=/home/biocbuild/R/R/site-library --no-vignettes --timings DCATS_1.7.0.tar.gz StartedAt: 2025-07-04 06:00:13 -0000 (Fri, 04 Jul 2025) EndedAt: 2025-07-04 06:02:23 -0000 (Fri, 04 Jul 2025) EllapsedTime: 130.1 seconds RetCode: 0 Status: OK CheckDir: DCATS.Rcheck Warnings: 0