Package: DCATS Version: 1.7.0 Command: F:\biocbuild\bbs-3.22-bioc\R\bin\R.exe CMD INSTALL DCATS StartedAt: 2025-07-20 16:34:52 -0400 (Sun, 20 Jul 2025) EndedAt: 2025-07-20 16:35:06 -0400 (Sun, 20 Jul 2025) EllapsedTime: 14.2 seconds RetCode: 0 Status: OK