Package: DCATS Version: 1.7.0 Command: F:\biocbuild\bbs-3.22-bioc\R\bin\R.exe CMD check --no-multiarch --install=check:DCATS.install-out.txt --library=F:\biocbuild\bbs-3.22-bioc\R\library --no-vignettes --timings DCATS_1.7.0.tar.gz StartedAt: 2025-07-22 01:10:28 -0400 (Tue, 22 Jul 2025) EndedAt: 2025-07-22 01:12:33 -0400 (Tue, 22 Jul 2025) EllapsedTime: 125.6 seconds RetCode: 0 Status: OK CheckDir: DCATS.Rcheck Warnings: 0