Package: DART Version: 1.57.0 Command: chmod a+r DART -R && F:\biocbuild\bbs-3.22-bioc\R\bin\R.exe CMD build --keep-empty-dirs --no-resave-data DART StartedAt: 2025-07-13 18:25:03 -0400 (Sun, 13 Jul 2025) EndedAt: 2025-07-13 18:25:34 -0400 (Sun, 13 Jul 2025) EllapsedTime: 31.0 seconds RetCode: 0 Status: OK PackageFile: DART_1.57.0.tar.gz PackageFileSize: 1.989 MiB