Package: DART Version: 1.57.0 Command: rm -rf DART.buildbin-libdir && mkdir DART.buildbin-libdir && F:\biocbuild\bbs-3.22-bioc\R\bin\R.exe CMD INSTALL --build --library=DART.buildbin-libdir DART_1.57.0.tar.gz StartedAt: 2025-07-14 08:48:20 -0400 (Mon, 14 Jul 2025) EndedAt: 2025-07-14 08:48:34 -0400 (Mon, 14 Jul 2025) EllapsedTime: 14.2 seconds RetCode: 0 Status: OK PackageFile: DART_1.57.0.zip PackageFileSize: 2.032 MiB