Package: DART Version: 1.57.0 Command: /Library/Frameworks/R.framework/Resources/bin/R CMD build --keep-empty-dirs --no-resave-data DART StartedAt: 2025-07-04 16:03:12 -0400 (Fri, 04 Jul 2025) EndedAt: 2025-07-04 16:03:25 -0400 (Fri, 04 Jul 2025) EllapsedTime: 12.1 seconds RetCode: 0 Status: OK PackageFile: DART_1.57.0.tar.gz PackageFileSize: 1.987 MiB