Package: DART Version: 1.57.0 Command: rm -rf DART.buildbin-libdir && mkdir DART.buildbin-libdir && /Users/biocbuild/BBS/utils/build-universal.sh DART_1.57.0.tar.gz /Library/Frameworks/R.framework/Resources/bin/R DART.buildbin-libdir StartedAt: 2025-07-04 22:15:31 -0400 (Fri, 04 Jul 2025) EndedAt: 2025-07-04 22:15:33 -0400 (Fri, 04 Jul 2025) EllapsedTime: 2.0 seconds RetCode: 0 Status: OK PackageFile: DART_1.57.0.tgz PackageFileSize: 2.029 MiB