Package: CytoPipelineGUI Version: 1.7.0 Command: rm -rf CytoPipelineGUI.buildbin-libdir && mkdir CytoPipelineGUI.buildbin-libdir && F:\biocbuild\bbs-3.22-bioc\R\bin\R.exe CMD INSTALL --build --library=CytoPipelineGUI.buildbin-libdir CytoPipelineGUI_1.7.0.tar.gz StartedAt: 2025-06-30 08:33:00 -0400 (Mon, 30 Jun 2025) EndedAt: 2025-06-30 08:33:42 -0400 (Mon, 30 Jun 2025) EllapsedTime: 41.6 seconds RetCode: 0 Status: OK PackageFile: CytoPipelineGUI_1.7.0.zip PackageFileSize: 858.3 KiB