Package: CytoMDS Version: 1.5.0 Command: /home/biocbuild/R/R/bin/R CMD check --install=check:CytoMDS.install-out.txt --library=/home/biocbuild/R/R/site-library --no-vignettes --timings CytoMDS_1.5.0.tar.gz StartedAt: 2025-07-01 06:22:23 -0000 (Tue, 01 Jul 2025) EndedAt: 2025-07-01 06:29:36 -0000 (Tue, 01 Jul 2025) EllapsedTime: 433.3 seconds RetCode: 0 Status: OK CheckDir: CytoMDS.Rcheck Warnings: 0