Package: CytoMDS Version: 1.5.0 Command: /home/biocbuild/R/R/bin/R CMD build --keep-empty-dirs --no-resave-data CytoMDS StartedAt: 2025-06-30 22:59:14 -0000 (Mon, 30 Jun 2025) EndedAt: 2025-06-30 23:03:02 -0000 (Mon, 30 Jun 2025) EllapsedTime: 228.1 seconds RetCode: 0 Status: OK PackageFile: CytoMDS_1.5.0.tar.gz PackageFileSize: 3.276 MiB