Package: CytoMDS Version: 1.5.0 Command: rm -rf CytoMDS.buildbin-libdir && mkdir CytoMDS.buildbin-libdir && F:\biocbuild\bbs-3.22-bioc\R\bin\R.exe CMD INSTALL --build --library=CytoMDS.buildbin-libdir CytoMDS_1.5.0.tar.gz StartedAt: 2025-08-15 10:04:39 -0400 (Fri, 15 Aug 2025) EndedAt: 2025-08-15 10:05:40 -0400 (Fri, 15 Aug 2025) EllapsedTime: 60.9 seconds RetCode: 0 Status: OK PackageFile: CytoMDS_1.5.0.zip PackageFileSize: 1.49 MiB