Package: CytoMDS Version: 1.5.0 Command: /home/biocbuild/bbs-3.22-bioc/R/bin/R CMD INSTALL CytoMDS StartedAt: 2025-07-01 15:32:33 -0400 (Tue, 01 Jul 2025) EndedAt: 2025-07-01 15:32:48 -0400 (Tue, 01 Jul 2025) EllapsedTime: 14.8 seconds RetCode: 0 Status: OK