Package: CytoMDS Version: 1.5.0 Command: /home/biocbuild/bbs-3.22-bioc/R/bin/R CMD build --keep-empty-dirs --no-resave-data --md5 CytoMDS StartedAt: 2025-07-01 16:49:21 -0400 (Tue, 01 Jul 2025) EndedAt: 2025-07-01 16:52:19 -0400 (Tue, 01 Jul 2025) EllapsedTime: 178.2 seconds RetCode: 0 Status: OK PackageFile: CytoMDS_1.5.0.tar.gz PackageFileSize: 5.269 MiB