Package: CytoMDS Version: 1.5.0 Command: /Library/Frameworks/R.framework/Resources/bin/R CMD INSTALL CytoMDS StartedAt: 2025-06-29 15:11:03 -0400 (Sun, 29 Jun 2025) EndedAt: 2025-06-29 15:11:09 -0400 (Sun, 29 Jun 2025) EllapsedTime: 5.9 seconds RetCode: 0 Status: OK