Package: CytoMDS Version: 1.5.0 Command: /Library/Frameworks/R.framework/Resources/bin/R CMD build --keep-empty-dirs --no-resave-data CytoMDS StartedAt: 2025-06-29 16:02:17 -0400 (Sun, 29 Jun 2025) EndedAt: 2025-06-29 16:03:35 -0400 (Sun, 29 Jun 2025) EllapsedTime: 77.9 seconds RetCode: 0 Status: OK PackageFile: CytoMDS_1.5.0.tar.gz PackageFileSize: 5.069 MiB