Package: CytoMDS Version: 1.5.0 Command: rm -rf CytoMDS.buildbin-libdir && mkdir CytoMDS.buildbin-libdir && /Users/biocbuild/BBS/utils/build-universal.sh CytoMDS_1.5.0.tar.gz /Library/Frameworks/R.framework/Resources/bin/R CytoMDS.buildbin-libdir StartedAt: 2025-06-29 22:15:07 -0400 (Sun, 29 Jun 2025) EndedAt: 2025-06-29 22:15:14 -0400 (Sun, 29 Jun 2025) EllapsedTime: 7.1 seconds RetCode: 0 Status: OK PackageFile: CytoMDS_1.5.0.tgz PackageFileSize: 3.809 MiB