Package: CytoDx Version: 1.29.0 Command: rm -rf CytoDx.buildbin-libdir && mkdir CytoDx.buildbin-libdir && F:\biocbuild\bbs-3.22-bioc\R\bin\R.exe CMD INSTALL --build --library=CytoDx.buildbin-libdir CytoDx_1.29.0.tar.gz StartedAt: 2025-08-15 10:04:19 -0400 (Fri, 15 Aug 2025) EndedAt: 2025-08-15 10:04:35 -0400 (Fri, 15 Aug 2025) EllapsedTime: 16.4 seconds RetCode: 0 Status: OK PackageFile: CytoDx_1.29.0.zip PackageFileSize: 563.3 KiB