Package: Cormotif Version: 1.55.0 Command: /home/biocbuild/bbs-3.22-bioc/R/bin/R CMD INSTALL Cormotif StartedAt: 2025-10-05 15:12:13 -0400 (Sun, 05 Oct 2025) EndedAt: 2025-10-05 15:12:18 -0400 (Sun, 05 Oct 2025) EllapsedTime: 4.2 seconds RetCode: 0 Status: OK