Package: Coralysis Version: 0.99.9 Command: F:\biocbuild\bbs-3.22-bioc\R\bin\R.exe CMD check --no-multiarch --install=check:Coralysis.install-out.txt --library=F:\biocbuild\bbs-3.22-bioc\R\library --no-vignettes --timings Coralysis_0.99.9.tar.gz StartedAt: 2025-07-15 00:45:49 -0400 (Tue, 15 Jul 2025) EndedAt: 2025-07-15 00:56:15 -0400 (Tue, 15 Jul 2025) EllapsedTime: 625.6 seconds RetCode: 0 Status: OK CheckDir: Coralysis.Rcheck Warnings: 0