Package: Coralysis Version: 0.99.9 Command: rm -rf Coralysis.buildbin-libdir && mkdir Coralysis.buildbin-libdir && F:\biocbuild\bbs-3.22-bioc\R\bin\R.exe CMD INSTALL --build --library=Coralysis.buildbin-libdir Coralysis_0.99.9.tar.gz StartedAt: 2025-07-15 08:41:40 -0400 (Tue, 15 Jul 2025) EndedAt: 2025-07-15 08:42:59 -0400 (Tue, 15 Jul 2025) EllapsedTime: 79.0 seconds RetCode: 0 Status: OK PackageFile: Coralysis_0.99.9.zip PackageFileSize: 8.213 MiB