Package: ComplexHeatmap Version: 2.25.2 Command: /home/biocbuild/R/R/bin/R CMD INSTALL ComplexHeatmap StartedAt: 2025-07-10 21:20:05 -0000 (Thu, 10 Jul 2025) EndedAt: 2025-07-10 21:20:35 -0000 (Thu, 10 Jul 2025) EllapsedTime: 30.2 seconds RetCode: 0 Status: OK