Package: ComplexHeatmap Version: 2.25.2 Command: /home/biocbuild/R/R/bin/R CMD check --install=check:ComplexHeatmap.install-out.txt --library=/home/biocbuild/R/R/site-library --no-vignettes --timings ComplexHeatmap_2.25.2.tar.gz StartedAt: 2025-07-11 06:50:51 -0000 (Fri, 11 Jul 2025) EndedAt: 2025-07-11 06:58:03 -0000 (Fri, 11 Jul 2025) EllapsedTime: 432.3 seconds RetCode: 0 Status: OK CheckDir: ComplexHeatmap.Rcheck Warnings: 0