Package: ComplexHeatmap Version: 2.25.2 Command: /Library/Frameworks/R.framework/Resources/bin/R CMD INSTALL ComplexHeatmap StartedAt: 2025-10-05 15:16:39 -0400 (Sun, 05 Oct 2025) EndedAt: 2025-10-05 15:17:10 -0400 (Sun, 05 Oct 2025) EllapsedTime: 31.3 seconds RetCode: 0 Status: OK