Package: ComplexHeatmap Version: 2.25.2 Command: /Library/Frameworks/R.framework/Resources/bin/R CMD build --keep-empty-dirs --no-resave-data ComplexHeatmap StartedAt: 2025-10-05 16:30:44 -0400 (Sun, 05 Oct 2025) EndedAt: 2025-10-05 16:31:25 -0400 (Sun, 05 Oct 2025) EllapsedTime: 41.2 seconds RetCode: 0 Status: OK PackageFile: ComplexHeatmap_2.25.2.tar.gz PackageFileSize: 1.412 MiB