Package: ComPrAn Version: 1.17.0 Command: /home/biocbuild/R/R/bin/R CMD check --install=check:ComPrAn.install-out.txt --library=/home/biocbuild/R/R/site-library --no-vignettes --timings ComPrAn_1.17.0.tar.gz StartedAt: 2025-07-18 05:34:47 -0000 (Fri, 18 Jul 2025) EndedAt: 2025-07-18 05:35:57 -0000 (Fri, 18 Jul 2025) EllapsedTime: 69.1 seconds RetCode: 0 Status: OK CheckDir: ComPrAn.Rcheck Warnings: 0