Package: ComPrAn Version: 1.17.0 Command: /home/biocbuild/bbs-3.22-bioc/R/bin/R CMD INSTALL ComPrAn StartedAt: 2025-07-15 15:08:35 -0400 (Tue, 15 Jul 2025) EndedAt: 2025-07-15 15:08:45 -0400 (Tue, 15 Jul 2025) EllapsedTime: 10.1 seconds RetCode: 0 Status: OK