Package: Cogito Version: 1.15.0 Command: /home/biocbuild/R/R/bin/R CMD build --keep-empty-dirs --no-resave-data Cogito StartedAt: 2025-07-14 22:43:32 -0000 (Mon, 14 Jul 2025) EndedAt: 2025-07-14 22:45:01 -0000 (Mon, 14 Jul 2025) EllapsedTime: 89.0 seconds RetCode: 0 Status: OK PackageFile: Cogito_1.15.0.tar.gz PackageFileSize: 892.8 KiB