Package: Cogito Version: 1.15.0 Command: F:\biocbuild\bbs-3.22-bioc\R\bin\R.exe CMD check --no-multiarch --install=check:Cogito.install-out.txt --library=F:\biocbuild\bbs-3.22-bioc\R\library --no-vignettes --timings Cogito_1.15.0.tar.gz StartedAt: 2025-07-02 00:36:39 -0400 (Wed, 02 Jul 2025) EndedAt: 2025-07-02 00:42:12 -0400 (Wed, 02 Jul 2025) EllapsedTime: 333.2 seconds RetCode: 0 Status: OK CheckDir: Cogito.Rcheck Warnings: 0