Package: CoSIA Version: 1.9.0 Command: /Library/Frameworks/R.framework/Resources/bin/R CMD INSTALL CoSIA StartedAt: 2025-07-07 15:47:53 -0400 (Mon, 07 Jul 2025) EndedAt: 2025-07-07 15:48:16 -0400 (Mon, 07 Jul 2025) EllapsedTime: 22.9 seconds RetCode: 0 Status: OK