############################################################################## ############################################################################## ### ### Running command: ### ### /Library/Frameworks/R.framework/Resources/bin/R CMD check --install=check:CoSIA.install-out.txt --library=/Library/Frameworks/R.framework/Resources/library --no-vignettes --timings CoSIA_1.9.0.tar.gz ### ############################################################################## ############################################################################## * using log directory ‘/Users/biocbuild/bbs-3.22-bioc/meat/CoSIA.Rcheck’ * using R version 4.5.1 Patched (2025-06-14 r88325) * using platform: aarch64-apple-darwin20 * R was compiled by Apple clang version 16.0.0 (clang-1600.0.26.6) GNU Fortran (GCC) 14.2.0 * running under: macOS Ventura 13.7.1 * using session charset: UTF-8 * using option ‘--no-vignettes’ * checking for file ‘CoSIA/DESCRIPTION’ ... OK * checking extension type ... Package * this is package ‘CoSIA’ version ‘1.9.0’ * package encoding: UTF-8 * checking package namespace information ... OK * checking package dependencies ... OK * checking if this is a source package ... OK * checking if there is a namespace ... OK * checking for hidden files and directories ... OK * checking for portable file names ... OK * checking for sufficient/correct file permissions ... OK * checking whether package ‘CoSIA’ can be installed ... OK * checking installed package size ... OK * checking package directory ... OK * checking ‘build’ directory ... OK * checking DESCRIPTION meta-information ... NOTE License stub is invalid DCF. * checking top-level files ... OK * checking for left-over files ... OK * checking index information ... OK * checking package subdirectories ... OK * checking code files for non-ASCII characters ... OK * checking R files for syntax errors ... OK * checking whether the package can be loaded ... OK * checking whether the package can be loaded with stated dependencies ... OK * checking whether the package can be unloaded cleanly ... OK * checking whether the namespace can be loaded with stated dependencies ... OK * checking whether the namespace can be unloaded cleanly ... OK * checking dependencies in R code ... OK * checking S3 generic/method consistency ... OK * checking replacement functions ... OK * checking foreign function calls ... OK * checking R code for possible problems ... OK * checking Rd files ... OK * checking Rd metadata ... OK * checking Rd cross-references ... OK * checking for missing documentation entries ... OK * checking for code/documentation mismatches ... OK * checking Rd \usage sections ... OK * checking Rd contents ... OK * checking for unstated dependencies in examples ... OK * checking files in ‘vignettes’ ... OK * checking examples ... OK Examples with CPU (user + system) or elapsed time > 5s user system elapsed plotCVGEx-CoSIAn-method 168.893 6.183 176.792 plotCVGEx 140.436 5.537 147.317 getTissues 43.226 0.864 44.520 plotSpeciesGEx-CoSIAn-method 37.996 0.923 39.467 plotSpeciesGEx 34.793 0.518 35.795 plotDSGEx 34.062 0.720 35.001 plotTissueGEx 34.014 0.643 35.080 plotTissueGEx-CoSIAn-method 34.081 0.569 34.942 plotDSGEx-CoSIAn-method 31.592 0.673 32.468 getGEx-CoSIAn-method 9.198 0.390 9.891 getGExMetrics-CoSIAn-method 7.945 0.195 8.332 getGEx 7.345 0.202 7.776 getGExMetrics 6.982 0.168 7.350 * checking for unstated dependencies in vignettes ... OK * checking package vignettes ... OK * checking running R code from vignettes ... SKIPPED * checking re-building of vignette outputs ... SKIPPED * checking PDF version of manual ... OK * DONE Status: 1 NOTE See ‘/Users/biocbuild/bbs-3.22-bioc/meat/CoSIA.Rcheck/00check.log’ for details.