Package: CoGAPS Version: 3.29.1 Command: /home/biocbuild/R/R/bin/R CMD INSTALL CoGAPS StartedAt: 2025-10-09 21:13:06 -0000 (Thu, 09 Oct 2025) EndedAt: 2025-10-09 21:16:19 -0000 (Thu, 09 Oct 2025) EllapsedTime: 192.9 seconds RetCode: 0 Status: OK