Package: CoGAPS Version: 3.29.1 Command: /Library/Frameworks/R.framework/Resources/bin/R CMD INSTALL CoGAPS StartedAt: 2025-10-10 15:14:28 -0400 (Fri, 10 Oct 2025) EndedAt: 2025-10-10 15:15:10 -0400 (Fri, 10 Oct 2025) EllapsedTime: 42.0 seconds RetCode: 0 Status: OK