Package: CoGAPS Version: 3.29.1 Command: /Library/Frameworks/R.framework/Resources/bin/R CMD build --keep-empty-dirs --no-resave-data CoGAPS StartedAt: 2025-10-10 16:01:11 -0400 (Fri, 10 Oct 2025) EndedAt: 2025-10-10 16:01:53 -0400 (Fri, 10 Oct 2025) EllapsedTime: 41.5 seconds RetCode: 0 Status: OK PackageFile: CoGAPS_3.29.1.tar.gz PackageFileSize: 19.83 MiB