Package: CoGAPS Version: 3.29.1 Maintainer: Elana J. Fertig MaintainerEmail: ejfertig at jhmi.edu git_url: https://git.bioconductor.org/packages/CoGAPS git_branch: devel git_last_commit: b480cd1 git_last_commit_date: 2025-09-16 09:46:38 -0400 (Tue, 16 Sep 2025)