Package: CoCiteStats Version: 1.81.0 Command: chmod a+r CoCiteStats -R && F:\biocbuild\bbs-3.22-bioc\R\bin\R.exe CMD build --keep-empty-dirs --no-resave-data CoCiteStats StartedAt: 2025-07-24 18:17:38 -0400 (Thu, 24 Jul 2025) EndedAt: 2025-07-24 18:17:43 -0400 (Thu, 24 Jul 2025) EllapsedTime: 4.6 seconds RetCode: 0 Status: OK PackageFile: CoCiteStats_1.81.0.tar.gz PackageFileSize: 5.337 KiB