Package: CoCiteStats Version: 1.81.0 Command: rm -rf CoCiteStats.buildbin-libdir && mkdir CoCiteStats.buildbin-libdir && F:\biocbuild\bbs-3.22-bioc\R\bin\R.exe CMD INSTALL --build --library=CoCiteStats.buildbin-libdir CoCiteStats_1.81.0.tar.gz StartedAt: 2025-07-25 08:58:57 -0400 (Fri, 25 Jul 2025) EndedAt: 2025-07-25 08:59:25 -0400 (Fri, 25 Jul 2025) EllapsedTime: 28.0 seconds RetCode: 0 Status: OK PackageFile: CoCiteStats_1.81.0.zip PackageFileSize: 35.18 KiB