Package: ClusterSignificance Version: 1.37.0 Command: chmod a+r ClusterSignificance -R && F:\biocbuild\bbs-3.22-bioc\R\bin\R.exe CMD build --keep-empty-dirs --no-resave-data ClusterSignificance StartedAt: 2025-07-01 18:03:52 -0400 (Tue, 01 Jul 2025) EndedAt: 2025-07-01 18:05:20 -0400 (Tue, 01 Jul 2025) EllapsedTime: 88.6 seconds RetCode: 0 Status: OK PackageFile: ClusterSignificance_1.37.0.tar.gz PackageFileSize: 1.325 MiB