Package: ClusterSignificance Version: 1.37.0 Command: rm -rf ClusterSignificance.buildbin-libdir && mkdir ClusterSignificance.buildbin-libdir && F:\biocbuild\bbs-3.22-bioc\R\bin\R.exe CMD INSTALL --build --library=ClusterSignificance.buildbin-libdir ClusterSignificance_1.37.0.tar.gz StartedAt: 2025-07-02 08:35:17 -0400 (Wed, 02 Jul 2025) EndedAt: 2025-07-02 08:36:08 -0400 (Wed, 02 Jul 2025) EllapsedTime: 50.2 seconds RetCode: 0 Status: OK PackageFile: ClusterSignificance_1.37.0.zip PackageFileSize: 1.527 MiB