Package: ClusterJudge Version: 1.31.0 Command: chmod a+r ClusterJudge -R && F:\biocbuild\bbs-3.22-bioc\R\bin\R.exe CMD build --keep-empty-dirs --no-resave-data ClusterJudge StartedAt: 2025-07-11 18:02:48 -0400 (Fri, 11 Jul 2025) EndedAt: 2025-07-11 18:04:13 -0400 (Fri, 11 Jul 2025) EllapsedTime: 85.0 seconds RetCode: 0 Status: OK PackageFile: ClusterJudge_1.31.0.tar.gz PackageFileSize: 844.9 KiB