Package: ClusterFoldSimilarity Version: 1.5.0 Command: /home/biocbuild/R/R/bin/R CMD check --install=check:ClusterFoldSimilarity.install-out.txt --library=/home/biocbuild/R/R/site-library --no-vignettes --timings ClusterFoldSimilarity_1.5.0.tar.gz StartedAt: 2025-07-11 06:42:13 -0000 (Fri, 11 Jul 2025) EndedAt: 2025-07-11 06:47:11 -0000 (Fri, 11 Jul 2025) EllapsedTime: 298.3 seconds RetCode: 0 Status: WARNINGS CheckDir: ClusterFoldSimilarity.Rcheck Warnings: 1