Package: ClusterFoldSimilarity Version: 1.5.0 Command: /home/biocbuild/R/R/bin/R CMD build --keep-empty-dirs --no-resave-data ClusterFoldSimilarity StartedAt: 2025-07-14 22:39:23 -0000 (Mon, 14 Jul 2025) EndedAt: 2025-07-14 22:57:37 -0000 (Mon, 14 Jul 2025) EllapsedTime: 1094.1 seconds RetCode: 0 Status: OK PackageFile: ClusterFoldSimilarity_1.5.0.tar.gz PackageFileSize: 835.2 KiB