Package: ClusterFoldSimilarity Version: 1.5.0 Command: F:\biocbuild\bbs-3.22-bioc\R\bin\R.exe CMD INSTALL ClusterFoldSimilarity StartedAt: 2025-07-21 16:35:01 -0400 (Mon, 21 Jul 2025) EndedAt: 2025-07-21 16:35:50 -0400 (Mon, 21 Jul 2025) EllapsedTime: 49.4 seconds RetCode: 0 Status: OK