Package: ClusterFoldSimilarity Version: 1.5.0 Command: chmod a+r ClusterFoldSimilarity -R && F:\biocbuild\bbs-3.22-bioc\R\bin\R.exe CMD build --keep-empty-dirs --no-resave-data ClusterFoldSimilarity StartedAt: 2025-07-21 18:08:40 -0400 (Mon, 21 Jul 2025) EndedAt: 2025-07-21 18:22:15 -0400 (Mon, 21 Jul 2025) EllapsedTime: 815.4 seconds RetCode: 0 Status: OK PackageFile: ClusterFoldSimilarity_1.5.0.tar.gz PackageFileSize: 865.9 KiB