Package: ClusterFoldSimilarity Version: 1.5.0 Command: rm -rf ClusterFoldSimilarity.buildbin-libdir && mkdir ClusterFoldSimilarity.buildbin-libdir && F:\biocbuild\bbs-3.22-bioc\R\bin\R.exe CMD INSTALL --build --library=ClusterFoldSimilarity.buildbin-libdir ClusterFoldSimilarity_1.5.0.tar.gz StartedAt: 2025-07-22 08:50:23 -0400 (Tue, 22 Jul 2025) EndedAt: 2025-07-22 08:53:02 -0400 (Tue, 22 Jul 2025) EllapsedTime: 158.4 seconds RetCode: 0 Status: OK PackageFile: ClusterFoldSimilarity_1.5.0.zip PackageFileSize: 895.8 KiB