Package: ClusterFoldSimilarity Version: 1.5.0 Command: /Library/Frameworks/R.framework/Resources/bin/R CMD INSTALL ClusterFoldSimilarity StartedAt: 2025-07-07 15:13:43 -0400 (Mon, 07 Jul 2025) EndedAt: 2025-07-07 15:13:57 -0400 (Mon, 07 Jul 2025) EllapsedTime: 14.0 seconds RetCode: 0 Status: OK