Package: ClusterFoldSimilarity Version: 1.5.0 Command: /Library/Frameworks/R.framework/Resources/bin/R CMD build --keep-empty-dirs --no-resave-data ClusterFoldSimilarity StartedAt: 2025-07-07 15:53:07 -0400 (Mon, 07 Jul 2025) EndedAt: 2025-07-07 15:56:36 -0400 (Mon, 07 Jul 2025) EllapsedTime: 209.4 seconds RetCode: 0 Status: OK PackageFile: ClusterFoldSimilarity_1.5.0.tar.gz PackageFileSize: 1.643 MiB