Package: ClusterFoldSimilarity Version: 1.5.0 Command: rm -rf ClusterFoldSimilarity.buildbin-libdir && mkdir ClusterFoldSimilarity.buildbin-libdir && /Users/biocbuild/BBS/utils/build-universal.sh ClusterFoldSimilarity_1.5.0.tar.gz /Library/Frameworks/R.framework/Resources/bin/R ClusterFoldSimilarity.buildbin-libdir StartedAt: 2025-07-07 22:12:04 -0400 (Mon, 07 Jul 2025) EndedAt: 2025-07-07 22:12:21 -0400 (Mon, 07 Jul 2025) EllapsedTime: 16.3 seconds RetCode: 0 Status: OK PackageFile: ClusterFoldSimilarity_1.5.0.tgz PackageFileSize: 1.672 MiB