Package: ClustAll Version: 1.5.0 Command: rm -rf ClustAll.buildbin-libdir && mkdir ClustAll.buildbin-libdir && /Users/biocbuild/BBS/utils/build-universal.sh ClustAll_1.5.0.tar.gz /Library/Frameworks/R.framework/Resources/bin/R ClustAll.buildbin-libdir StartedAt: 2025-07-21 22:20:39 -0400 (Mon, 21 Jul 2025) EndedAt: 2025-07-21 22:20:50 -0400 (Mon, 21 Jul 2025) EllapsedTime: 10.2 seconds RetCode: 0 Status: OK PackageFile: ClustAll_1.5.0.tgz PackageFileSize: 2.286 MiB