Package: CluMSID Version: 1.25.0 Command: /home/biocbuild/R/R/bin/R CMD INSTALL CluMSID StartedAt: 2025-10-02 21:05:07 -0000 (Thu, 02 Oct 2025) EndedAt: 2025-10-02 21:06:03 -0000 (Thu, 02 Oct 2025) EllapsedTime: 55.7 seconds RetCode: 0 Status: OK