Package: CluMSID Version: 1.25.0 Command: /home/biocbuild/R/R/bin/R CMD check --install=check:CluMSID.install-out.txt --library=/home/biocbuild/R/R/site-library --no-vignettes --timings CluMSID_1.25.0.tar.gz StartedAt: 2025-10-03 05:45:38 -0000 (Fri, 03 Oct 2025) EndedAt: 2025-10-03 05:53:11 -0000 (Fri, 03 Oct 2025) EllapsedTime: 452.5 seconds RetCode: 0 Status: WARNINGS CheckDir: CluMSID.Rcheck Warnings: 1